{ "currentVersion": 11.1, "serviceDescription": "
The 2021 orthophoto is a digital aerial photograph in which displacements due to tilt and relief have been corrected to produce uniform scale and a true representation of the ground. The images were captured in a digital format using a UltraCam Eagle M3 large format digital photogrammetric camera on May 14, 2021 at a 10 cm resolution. They were post processed and loaded into a seamless mosaic and compressed using JPEG2000 (75% compression). They are stored in coordinate system UTM Zone 10 N, NAD83 CSRS Datum.<\/span><\/p> <\/p><\/div><\/div><\/div>",
"name": "RASTERS/Orthophoto2021",
"description": " The 2021 orthophoto is a digital aerial photograph in which displacements due to tilt and relief have been corrected to produce uniform scale and a true representation of the ground. The images were captured in a digital format using a UltraCam Eagle M3 large format digital photogrammetric camera on May 14, 2021 at a 10 cm resolution. They were post processed and loaded into a seamless mosaic and compressed using JPEG2000 (75% compression). They are stored in coordinate system UTM Zone 10 N, NAD83 CSRS Datum.<\/span><\/p> <\/p><\/div><\/div><\/div>",
"extent": {
"xmin": 464229.96348572476,
"ymin": 5362431.96020506,
"xmax": 481229.9635807373,
"ymax": 5379431.9601416495,
"spatialReference": {
"wkid": 3157,
"latestWkid": 3157
}
},
"initialExtent": {
"xmin": 464229.96348572476,
"ymin": 5362431.96020506,
"xmax": 481229.9635807373,
"ymax": 5379431.9601416495,
"spatialReference": {
"wkid": 3157,
"latestWkid": 3157
}
},
"fullExtent": {
"xmin": 464229.96348572476,
"ymin": 5362431.96020506,
"xmax": 481229.9635807373,
"ymax": 5379431.9601416495,
"spatialReference": {
"wkid": 3157,
"latestWkid": 3157
}
},
"sortableFields": "",
"bandCount": 4,
"pixelType": "U8",
"minValues": [
0,
0,
0,
0
],
"maxValues": [
255,
255,
255,
255
],
"meanValues": [
81.14223840085,
87.787770864075,
88.43240869981666,
95.4712405610875
],
"stdvValues": [
45.87035552406236,
43.372269800545,
40.652404409291506,
46.50721735894155
],
"hasMultidimensions": false,
"pixelSizeX": 0.1000000005588973,
"pixelSizeY": 0.09999999962699435,
"datasetFormat": "SDR",
"uncompressedSize": 115600000000,
"blockWidth": 128,
"blockHeight": 128,
"compressionType": "JPEG2000",
"bandNames": [
"Band_1",
"Band_2",
"Band_3",
"Band_4"
],
"allowCopy": true,
"allowAnalysis": true,
"itemAccess": false,
"minPixelSize": 0.02645838625010584,
"maxPixelSize": 33.0729828126323,
"copyrightText": "District of Saanich; Aeroquest Mapcon Inc.; Kisik Aerial Survey Inc.",
"serviceDataType": "esriImageServiceDataTypeGeneric",
"serviceSourceType": "esriImageServiceSourceTypeDataset",
"objectIdField": "",
"fields": [],
"capabilities": "Image,Metadata,Mensuration",
"defaultMosaicMethod": "Center",
"allowedMosaicMethods": "",
"sortField": "",
"sortValue": null,
"sortAscending": true,
"mosaicOperator": "First",
"defaultCompressionQuality": 75,
"defaultResamplingMethod": "Bilinear",
"maxImageHeight": 4100,
"maxImageWidth": 15000,
"singleFusedMapCache": true,
"tileInfo": {
"rows": 256,
"cols": 256,
"dpi": 96,
"format": "JPEG",
"compressionQuality": 75,
"origin": {
"x": 450305,
"y": 5394781
},
"spatialReference": {
"wkid": 3157,
"latestWkid": 3157
},
"lods": [
{
"level": 0,
"resolution": 33.0729828126323,
"scale": 125000
},
{
"level": 1,
"resolution": 26.458386250105836,
"scale": 100000
},
{
"level": 2,
"resolution": 19.843789687579378,
"scale": 75000
},
{
"level": 3,
"resolution": 13.229193125052918,
"scale": 50000
},
{
"level": 4,
"resolution": 7.9375158750317505,
"scale": 30000
},
{
"level": 5,
"resolution": 3.9687579375158752,
"scale": 15000
},
{
"level": 6,
"resolution": 2.6458386250105836,
"scale": 10000
},
{
"level": 7,
"resolution": 1.9843789687579376,
"scale": 7500
},
{
"level": 8,
"resolution": 1.5875031750063502,
"scale": 6000
},
{
"level": 9,
"resolution": 1.3229193125052918,
"scale": 5000
},
{
"level": 10,
"resolution": 1.0583354500042335,
"scale": 4000
},
{
"level": 11,
"resolution": 0.7937515875031751,
"scale": 3000
},
{
"level": 12,
"resolution": 0.6614596562526459,
"scale": 2500
},
{
"level": 13,
"resolution": 0.5291677250021167,
"scale": 2000
},
{
"level": 14,
"resolution": 0.26458386250105836,
"scale": 1000
},
{
"level": 15,
"resolution": 0.13229193125052918,
"scale": 500
},
{
"level": 16,
"resolution": 0.06614596562526459,
"scale": 250
},
{
"level": 17,
"resolution": 0.026458386250105836,
"scale": 100
}
]
},
"storageInfo": {
"storageFormat": "esriMapCacheStorageModeCompactV2",
"packetSize": 128
},
"cacheType": "Map",
"allowRasterFunction": true,
"rasterFunctionInfos": [
{
"name": "None",
"description": "",
"help": ""
}
],
"rasterTypeInfos": [
{
"name": "Raster Dataset",
"description": "Supports all ArcGIS Raster Datasets",
"help": ""
}
],
"mensurationCapabilities": "Basic",
"hasHistograms": true,
"hasColormap": false,
"hasRasterAttributeTable": false,
"minScale": 125000,
"maxScale": 100,
"exportTilesAllowed": true,
"maxExportTilesCount": 100000,
"supportsStatistics": false,
"supportsAdvancedQueries": false,
"editFieldsInfo": null,
"ownershipBasedAccessControlForRasters": null,
"allowComputeTiePoints": false,
"useStandardizedQueries": true,
"advancedQueryCapabilities": {
"useStandardizedQueries": true,
"supportsStatistics": false,
"supportsOrderBy": false,
"supportsDistinct": false,
"supportsPagination": false
},
"spatialReference": {
"wkid": 3157,
"latestWkid": 3157
}
}