View In:
ArcGIS JavaScript
ArcGIS Online Map Viewer
ArcGIS Earth
Service Description: The 2005 orthophoto is a digital aerial photograph in which displacements due to tilt and relief have been corrected to produce uniform scale and a true representation of the ground. The data capture was contracted out on behalf of the District of Saanich by the CRD to McElhanney (Vancouver, BC, CAN) and was originally captured in AGFA x100 (colour) film. The images were captured on May 25-26 2005 at a 10 cm resolution, post processed and loaded into a seamless mosaic and compressed using compression type LZ77. It is stored in coordinate system UTM Zone 10 N, NAD83 CSRS Datum.
Name: RASTERS/Orthophoto2005
Description: The 2005 orthophoto is a digital aerial photograph in which displacements due to tilt and relief have been corrected to produce uniform scale and a true representation of the ground. The data capture was contracted out on behalf of the District of Saanich by the CRD to McElhanney (Vancouver, BC, CAN) and was originally captured in AGFA x100 (colour) film. The images were captured on May 25-26 2005 at a 10 cm resolution, post processed and loaded into a seamless mosaic and compressed using compression type LZ77. It is stored in coordinate system UTM Zone 10 N, NAD83 CSRS Datum.
Single Fused Map Cache: true
Tile Info:
- Height: 256
- Width: 256
- DPI: 96
-
Levels of Detail: 18
- Format: JPEG
- Compression Quality: 75.0
- LERC Error: NaN
- Origin: X: 450305.0
Y: 5394781.0
- Spatial Reference: 3157
(3157)
LatestVCSWkid(0)
Storage Info:
- Storage Format: esriMapCacheStorageModeCompactV2
- Packet Size: 128
Extent:
XMin: 463076.0634783127
YMin: 5363574.066773819
XMax: 481522.0635813873
YMax: 5378935.067002711
Spatial Reference: 3157
(3157)
LatestVCSWkid(0)
Initial Extent:
XMin: 463076.0634783127
YMin: 5363574.066773819
XMax: 481522.0635813873
YMax: 5378935.067002711
Spatial Reference: 3157
(3157)
LatestVCSWkid(0)
Full Extent:
XMin: 463076.0634783127
YMin: 5363574.066773819
XMax: 481522.0635813873
YMax: 5378935.067002711
Spatial Reference: 3157
(3157)
LatestVCSWkid(0)
Pixel Size X: 0.10000000055879102
Pixel Size Y: 0.10000000149008581
Band Count: 3
Pixel Type: U8
RasterFunction Infos: {"rasterFunctionInfos": [{
"name": "None",
"description": "",
"help": ""
}]}
Mensuration Capabilities: Basic
Has Histograms: true
Has Colormap: false
Has Multi Dimensions : false
Rendering Rule:
Min Scale: 125000
Max Scale: 100
Copyright Text: District of Saanich; McElhanney
Service Data Type: esriImageServiceDataTypeRGB
Min Values: 1, 1, 1
Max Values: 255, 255, 255
Mean Values: 106.99053186634625, 110.55860226701375, 106.22448687095023
Standard Deviation Values: 57.13639273266256, 56.37674481522207, 54.86145618916881
Object ID Field:
Fields:
None
Default Mosaic Method: Center
Allowed Mosaic Methods:
SortField:
SortValue: null
Mosaic Operator: First
Default Compression Quality: 75
Default Resampling Method: Bilinear
Max Record Count: null
Max Image Height: 4100
Max Image Width: 15000
Max Download Image Count: null
Max Mosaic Image Count: null
Allow Raster Function: true
Allow Copy: true
Allow Analysis: true
Allow Compute TiePoints: false
Supports Statistics: false
Supports Advanced Queries: false
Use StandardizedQueries: true
Raster Type Infos:
Name: Raster Dataset
Description: Supports all ArcGIS Raster Datasets
Help:
Has Raster Attribute Table: false
Edit Fields Info: null
Ownership Based AccessControl For Rasters: null
Child Resources:
Info
Histograms
Statistics
Key Properties
Legend
Raster Function Infos
Supported Operations:
Export Image
Identify
Measure
Compute Histograms
Compute Statistics Histograms
Get Samples
Compute Class Statistics
Query Boundary
Compute Pixel Location
Compute Angles
Validate
Project
EstimateExportTilesSize
ExportTiles