View In:
ArcGIS JavaScript
ArcGIS Online Map Viewer
ArcGIS Earth
Service Description: The 2019 orthophoto is a digital aerial photograph in which displacements due to tilt and relief have been corrected to produce uniform scale and a true representation of the ground. The data capture was contracted out on behalf of the District of Saanich by the CRD to McElhanney. The images were captured the first week in July 2019 at a 10 cm resolution using a large format digital photogrammetric camera. Images were post processed and loaded into a seamless raster mosaic compressed using JPEG2000 (75% compression). They are stored in coordinate system UTM Zone 10 N, NAD83 CSRS Datum.
Name: RASTERS/Orthophoto2019
Description: The 2019 orthophoto is a digital aerial photograph in which displacements due to tilt and relief have been corrected to produce uniform scale and a true representation of the ground. The data capture was contracted out on behalf of the District of Saanich by the CRD to McElhanney. The images were captured the first week in July 2019 at a 10 cm resolution using a large format digital photogrammetric camera. Images were post processed and loaded into a seamless raster mosaic compressed using JPEG2000 (75% compression). They are stored in coordinate system UTM Zone 10 N, NAD83 CSRS Datum.
Single Fused Map Cache: true
Tile Info:
- Height: 256
- Width: 256
- DPI: 96
-
Levels of Detail: 18
- Format: JPEG
- Compression Quality: 75.0
- LERC Error: NaN
- Origin: X: 450305.0
Y: 5394781.0
- Spatial Reference: 3157
(3157)
LatestVCSWkid(0)
Storage Info:
- Storage Format: esriMapCacheStorageModeCompactV2
- Packet Size: 128
Extent:
XMin: 464229.96348574175
YMin: 5362431.96020504
XMax: 481229.9635807373
YMax: 5379431.96014171
Spatial Reference: 3157
(3157)
LatestVCSWkid(0)
Initial Extent:
XMin: 464229.96348574175
YMin: 5362431.96020504
XMax: 481229.9635807373
YMax: 5379431.96014171
Spatial Reference: 3157
(3157)
LatestVCSWkid(0)
Full Extent:
XMin: 464229.96348574175
YMin: 5362431.96020504
XMax: 481229.9635807373
YMax: 5379431.96014171
Spatial Reference: 3157
(3157)
LatestVCSWkid(0)
Pixel Size X: 0.1000000005587973
Pixel Size Y: 0.09999999962747097
Band Count: 3
Pixel Type: U8
RasterFunction Infos: {"rasterFunctionInfos": [{
"name": "None",
"description": "",
"help": ""
}]}
Mensuration Capabilities: Basic
Has Histograms: true
Has Colormap: false
Has Multi Dimensions : false
Rendering Rule:
Min Scale: 125000
Max Scale: 100
Copyright Text: District of Saanich; McElhanney
Service Data Type: esriImageServiceDataTypeRGB
Min Values: 0, 0, 0
Max Values: 255, 255, 255
Mean Values: 71.18984013375, 79.16924928505, 80.31335035708334
Standard Deviation Values: 66.33036309750199, 62.220887720333494, 57.66502593642604
Object ID Field:
Fields:
None
Default Mosaic Method: Center
Allowed Mosaic Methods:
SortField:
SortValue: null
Mosaic Operator: First
Default Compression Quality: 75
Default Resampling Method: Bilinear
Max Record Count: null
Max Image Height: 4100
Max Image Width: 15000
Max Download Image Count: null
Max Mosaic Image Count: null
Allow Raster Function: true
Allow Copy: true
Allow Analysis: true
Allow Compute TiePoints: false
Supports Statistics: false
Supports Advanced Queries: false
Use StandardizedQueries: true
Raster Type Infos:
Name: Raster Dataset
Description: Supports all ArcGIS Raster Datasets
Help:
Has Raster Attribute Table: false
Edit Fields Info: null
Ownership Based AccessControl For Rasters: null
Child Resources:
Info
Histograms
Statistics
Key Properties
Legend
Raster Function Infos
Supported Operations:
Export Image
Identify
Measure
Compute Histograms
Compute Statistics Histograms
Get Samples
Compute Class Statistics
Query Boundary
Compute Pixel Location
Compute Angles
Validate
Project
EstimateExportTilesSize
ExportTiles